BEGIN:VCALENDAR
VERSION:2.0
PRODID:-//Restore WA - ECPv6.15.20//NONSGML v1.0//EN
CALSCALE:GREGORIAN
METHOD:PUBLISH
X-ORIGINAL-URL:https://www.restore-wa.org.uk
X-WR-CALDESC:Events for Restore WA
REFRESH-INTERVAL;VALUE=DURATION:PT1H
X-Robots-Tag:noindex
X-PUBLISHED-TTL:PT1H
BEGIN:VTIMEZONE
TZID:Europe/London
BEGIN:DAYLIGHT
TZOFFSETFROM:+0000
TZOFFSETTO:+0100
TZNAME:BST
DTSTART:20230326T010000
END:DAYLIGHT
BEGIN:STANDARD
TZOFFSETFROM:+0100
TZOFFSETTO:+0000
TZNAME:GMT
DTSTART:20231029T010000
END:STANDARD
BEGIN:DAYLIGHT
TZOFFSETFROM:+0000
TZOFFSETTO:+0100
TZNAME:BST
DTSTART:20240331T010000
END:DAYLIGHT
BEGIN:STANDARD
TZOFFSETFROM:+0100
TZOFFSETTO:+0000
TZNAME:GMT
DTSTART:20241027T010000
END:STANDARD
BEGIN:DAYLIGHT
TZOFFSETFROM:+0000
TZOFFSETTO:+0100
TZNAME:BST
DTSTART:20250330T010000
END:DAYLIGHT
BEGIN:STANDARD
TZOFFSETFROM:+0100
TZOFFSETTO:+0000
TZNAME:GMT
DTSTART:20251026T010000
END:STANDARD
BEGIN:DAYLIGHT
TZOFFSETFROM:+0000
TZOFFSETTO:+0100
TZNAME:BST
DTSTART:20260329T010000
END:DAYLIGHT
BEGIN:STANDARD
TZOFFSETFROM:+0100
TZOFFSETTO:+0000
TZNAME:GMT
DTSTART:20261025T010000
END:STANDARD
BEGIN:DAYLIGHT
TZOFFSETFROM:+0000
TZOFFSETTO:+0100
TZNAME:BST
DTSTART:20270328T010000
END:DAYLIGHT
BEGIN:STANDARD
TZOFFSETFROM:+0100
TZOFFSETTO:+0000
TZNAME:GMT
DTSTART:20271031T010000
END:STANDARD
END:VTIMEZONE
BEGIN:VEVENT
DTSTART;TZID=Europe/London:20260225T180000
DTEND;TZID=Europe/London:20260225T200000
DTSTAMP:20260426T034448
CREATED:20260210T113912Z
LAST-MODIFIED:20260310T102318Z
UID:25358-1772042400-1772049600@www.restore-wa.org.uk
SUMMARY:February Empowering Group
DESCRIPTION:“Respect Isn’t Extra — It’s the Minimum”\nInteractive Workshops\, Discussions\, and Activities Focusing on Respect and Relationship Safety. \nStarting February 25 and running for 8 weeks. \nFor Females Only\, Ages 16 – 25 \nFor More Info Text\, Call or Email:\n07901320192\nLouise@Restore-WA.org.uk
URL:https://www.restore-wa.org.uk/event/empowering-group/
LOCATION:The Malthouse\, 52.2479662654234\, 0.7093802602035654
CATEGORIES:Workshop
ATTACH;FMTTYPE=image/png:https://www.restore-wa.org.uk/wp-content/uploads/2026/02/empowering-group.png
ORGANIZER;CN="Restore WA - Louise":MAILTO:Louise@Restore-WA.org.uk
END:VEVENT
BEGIN:VEVENT
DTSTART;TZID=Europe/London:20260209T100000
DTEND;TZID=Europe/London:20260209T120000
DTSTAMP:20260426T034448
CREATED:20260112T111454Z
LAST-MODIFIED:20260212T124945Z
UID:25323-1770631200-1770638400@www.restore-wa.org.uk
SUMMARY:Domestic Abuse is Everyone's Business
DESCRIPTION:An empowering workshop in collaboration with Heritage Beauty and Wellbeing for beauty and hair professionals to help spot the signs of domestic abuse and offer support.  \nNo pressure. no judgement\, just awareness. \n \nRefreshments will be provided.
URL:https://www.restore-wa.org.uk/event/domestic-abuse-is-everyones-business/
LOCATION:The Malthouse\, 52.2479662654234\, 0.7093802602035654
CATEGORIES:Workshop
ATTACH;FMTTYPE=image/png:https://www.restore-wa.org.uk/wp-content/uploads/2025/10/restore-wa-hands-nobkg.png
ORGANIZER;CN="Restore WA":MAILTO:admin@restore-wa.org.uk
END:VEVENT
BEGIN:VEVENT
DTSTART;TZID=Europe/London:20251201T080000
DTEND;TZID=Europe/London:20251211T120000
DTSTAMP:20260426T034448
CREATED:20251201T144151Z
LAST-MODIFIED:20260212T134014Z
UID:25244-1764576000-1765454400@www.restore-wa.org.uk
SUMMARY:Christmas Blanket Auction
DESCRIPTION:All proceeds from the auction will go to Restore Women’s Aid\n\n\nVisit ebay.co.uk to bid on this item. \n\nCelebrate the festive season with this unique and one of a kind\, hand-crafted Christmas blanket\, lovingly designed and crocheted. Perfect for adding a warm\, festive touch to your home or gifting to someone special.\n\n\n\nSize: 164 cm x 118 cm (approx. 64.5″ x 46.5″)\nWeight: 850 grams\nMaterial: Soft yarn (hand-crocheted)\nDesign: One of a kind original festive pattern\nCondition: Brand new\, handmade with care\n\n\nThis beautiful blanket brings cosy comfort and Christmas cheer to any space — ideal for snuggling up on cold winter nights\, decorating your couch\, or displaying as a handmade statement piece.\n\nSecurely packaged for safe delivery.\n\n\n \nhttps://www.ebay.co.uk/itm/167952424686
URL:https://www.restore-wa.org.uk/event/christmas-blanket-auction/
LOCATION:Ebay.co.uk\, United Kingdom
CATEGORIES:Fundraiser
ATTACH;FMTTYPE=image/jpeg:https://www.restore-wa.org.uk/wp-content/uploads/2025/12/charity-auction-balnket.jpg
ORGANIZER;CN="Restore WA":MAILTO:admin@restore-wa.org.uk
END:VEVENT
BEGIN:VEVENT
DTSTART;TZID=Europe/London:20251125T180000
DTEND;TZID=Europe/London:20251125T190000
DTSTAMP:20260426T034448
CREATED:20251120T153948Z
LAST-MODIFIED:20260212T134217Z
UID:25128-1764093600-1764097200@www.restore-wa.org.uk
SUMMARY:Reclaim the Night March
DESCRIPTION:Join Restore in a march round the town to promote making the streets a safer place for women and girls. \n\nThe Reclaim the Night movement began in the UK in 1977\, when women in Leeds marched against police advice telling them to stay home during the Yorkshire Ripper murders. They demanded the right to walk freely and safely at night — and that message still matters today. \n\n\nBy walking together\, we’re standing up against harassment\, violence\, and victim-blaming. We’re showing solidarity and reclaiming public spaces for everyone. \n\n\nWe have the right to feel safe.\nWe have the right to walk freely — day or night. \n\nMeet at The Malthouse\, outside the Steam House Cafe \nFor more information contact Louise@restore-wa.org.uk
URL:https://www.restore-wa.org.uk/event/reclaim-the-night-march/
LOCATION:The Malthouse\, 52.2479662654234\, 0.7093802602035654
ATTACH;FMTTYPE=image/png:https://www.restore-wa.org.uk/wp-content/uploads/2025/11/reclaim-the-night-2025.png
ORGANIZER;CN="Restore WA":MAILTO:admin@restore-wa.org.uk
END:VEVENT
BEGIN:VEVENT
DTSTART;TZID=Europe/London:20251031T140000
DTEND;TZID=Europe/London:20251031T160000
DTSTAMP:20260426T034448
CREATED:20250325T123357Z
LAST-MODIFIED:20260212T134401Z
UID:22999-1761919200-1761926400@www.restore-wa.org.uk
SUMMARY:Halloween Tea Party
DESCRIPTION: You’re Invited… If You Dare! \nJoin us for a Fang-tastic Halloween Tea Party — where tricks and treats await around every corner!\n\n show your creativity in our Pre-Carved Pumpkin Competition\nTransform with Eerie Face Painting\nGroove to Spine-Chilling Tunes\n Try your luck with our Haunting Raffle & Ghoulish Games\n\n\nAnd of course\, indulge in a Sinfully Delicious Halloween Afternoon Tea — included with your ticket!\n\nSo grab your broomsticks\, dust off your fangs\, and prepare for an afternoon of frightful fun and eerie delights!
URL:https://www.restore-wa.org.uk/event/halloween-tea-party/
LOCATION:The Malthouse\, 52.2479662654234\, 0.7093802602035654
CATEGORIES:Celebration
ATTACH;FMTTYPE=image/png:https://www.restore-wa.org.uk/wp-content/uploads/2025/03/Halloween-Tea-Party-Poster-2.png
ORGANIZER;CN="Restore WA":MAILTO:admin@restore-wa.org.uk
END:VEVENT
BEGIN:VEVENT
DTSTART;TZID=Europe/London:20251003T093000
DTEND;TZID=Europe/London:20251003T160000
DTSTAMP:20260426T034448
CREATED:20250815T160944Z
LAST-MODIFIED:20260212T134333Z
UID:23750-1759483800-1759507200@www.restore-wa.org.uk
SUMMARY:Domestic Abuse: Learning from Lived Experience Conference
DESCRIPTION:An event to explore the experiences of survivors of domestic abuse – working to tackle violence against women and girls as practitioners and survivors; exploring the real lived experience\, how interventions and individuals can make a difference and tools to help survivors recover from the trauma of domestic abuse. \nWe’re bringing together survivors and professionals from the Violence Against Women & Girls (VAWG) sector for an event in Bury St Edmunds – to explore how we can better support and care for survivors with lived experience. \n  \nWhat the event is about:\nThis free event is by and for survivors and professionals working across all areas of domestic and sexual violence services. Join us to explore how we can better support each other in domestic and sexual violence services so we can help survivors thrive. \nThis event will be about listening and learning from each other\, and giving  a safe space to have real conversations about the reality of domestic abuse and how services can best serve survivors and how we can lead this sector to make positive changes. \nYou’ll hear from some inspiring speakers\, and through meaningful discussions\, we’ll explore what has helped survivors and what hasn’t\, and how we can build a comprehensive supportive environment. \n  \nSpeakers:\nDavid Challen – Survivor\, Campaigner\, Author\nMark Murphy –  Survivor\, BBC Broadcaster and Host\nThe Skinny Poet – Survivor and Poet\nFay Greaves and Ash Bibi – “Traitors”\, Survivors and Campaigners\nBal Howard – Survivor\, Public Speaker and Trainer\nJeannie Bloomfield – Restore Patron\, Survivor and Patron\nCharlene Boyaram – Survivor and DA Services Supported\nRestore Adult and Young Ambassadors\n\nThis event marks 50th Anniversary of Restore Women’s Aid\, in a changing landscape\, that aims to combine community-led solutions and best practice\,  within an environment  where the health and wellbeing  of survivors are too often overlooked. The event will also celebrate the creativity and expression of survivors through poetry\, film\, and other mediums.
URL:https://www.restore-wa.org.uk/event/domestic-abuse-learning-from-lived-experience-conference/
LOCATION:The Athenaeum\, The Athenaeum\, Angel Hill\, Bury Saint Edmunds\, Suffolk\, IP33 1LU\, United Kingdom
CATEGORIES:Conference
ATTACH;FMTTYPE=image/png:https://www.restore-wa.org.uk/wp-content/uploads/2024/11/restore-wa-logo.png
ORGANIZER;CN="Restore WA":MAILTO:admin@restore-wa.org.uk
END:VEVENT
BEGIN:VEVENT
DTSTART;TZID=Europe/London:20250716T184500
DTEND;TZID=Europe/London:20250716T213000
DTSTAMP:20260426T034448
CREATED:20241206T102018Z
LAST-MODIFIED:20260212T134545Z
UID:22725-1752691500-1752701400@www.restore-wa.org.uk
SUMMARY:RESTORE Fundraiser - Abbeygate Sixth Form College Creative Showcase
DESCRIPTION:On Wednesday 16th July 6.45 – 9.30pm students from Abbeygate Sixth Form College will be hosting a Creative Showcase to celebrate achievement within Visual and Performing Arts. \nThis year they are working with community partner Restore WA (Bury St Edmunds Women’s Aid) who provide support for victims of domestic abuse. \nFunds raised will go towards the programmes that Restore provide for young people educating and supporting them to have healthy relationships. \nIn response to Restore WA’s education outreach programme\, many of the acts that feature in our creative showcase are responding to this sensitive issue. Students have created thoughtful and sensitive outcomes in drama\, dance and the spoken word which will be performed during the evening. Textiles students will showcase their haute couture outfits on the catwalk. \nThere will be an exhibition of work from Fine Art students on display and music performed in the interlude. A sale of drinks and cakes will help to raise money for Restore WA. \nTicket Cost:
URL:https://www.restore-wa.org.uk/event/abbeygate-creative-showcase/
LOCATION:Abbeygate Sixth Form College\, Abbeygate Sixth Form College\, Bury St Edmunds\, Suffolk\, IP33 3TT\, United Kingdom
CATEGORIES:Fundraiser
ATTACH;FMTTYPE=image/png:https://www.restore-wa.org.uk/wp-content/uploads/2024/12/Showcase.png
ORGANIZER;CN="Restore WA":MAILTO:admin@restore-wa.org.uk
END:VEVENT
BEGIN:VEVENT
DTSTART;VALUE=DATE:20250517
DTEND;VALUE=DATE:20250518
DTSTAMP:20260426T034448
CREATED:20250402T120446Z
LAST-MODIFIED:20250513T215847Z
UID:23052-1747440000-1747526399@www.restore-wa.org.uk
SUMMARY:Sponsored Walk Fundraiser
DESCRIPTION:In aid of RESTORE Women’s Aid 50th Anniversary\, staff and friends will be walking a whopping 50\,000 steps in one day on Saturday 17th May 2025. \nThe route runs from Haverhill to Clare and then to Bury St Edmunds. If you would like to support us and help raise money for those who have been affected by domestic abuse then please follow this link: Support Restore WA
URL:https://www.restore-wa.org.uk/event/sponsored-walk/
CATEGORIES:Fundraiser
ATTACH;FMTTYPE=image/png:https://www.restore-wa.org.uk/wp-content/uploads/2025/04/Screenshot-2025-04-02-at-10.15.29.png
END:VEVENT
BEGIN:VEVENT
DTSTART;TZID=Europe/London:20250516T183000
DTEND;TZID=Europe/London:20250516T230000
DTSTAMP:20260426T034448
CREATED:20250219T183827Z
LAST-MODIFIED:20260212T134436Z
UID:22823-1747420200-1747436400@www.restore-wa.org.uk
SUMMARY:Grand Quiz Night
DESCRIPTION:We are excited to announce our super fundraising Grand Quiz Night for May! Think giant pub quiz. \nQuiz Master Richard Glinn will provide us with a fun night out and test our brain power. \nThe bar will be open\, supper will be served with a choice of fish and chips or chicken and chips. \nFor a team of six\, but do come along even if you can’t form a six and we will team you up with someone – a chance to make new friends. \nThere will be prizes!! \nThis is a chance to raise money for Restore (Bury St Edmunds Women’s Aid) where we help men\, women and children affected by domestic abuse. \n\nBook tickets now for the Grand Quiz Night below!
URL:https://www.restore-wa.org.uk/event/grand-quiz-night/
LOCATION:Horringer Community Centre\, Horringer Community Centre\, Horringer\, Bury Saint Edmunds\, Suffolk\, IP29 5RU\, United Kingdom
ATTACH;FMTTYPE=image/png:https://www.restore-wa.org.uk/wp-content/uploads/2025/02/Quiz-night-book-now-2025.png
ORGANIZER;CN="Restore WA":MAILTO:admin@restore-wa.org.uk
END:VEVENT
BEGIN:VEVENT
DTSTART;TZID=Europe/London:20241208T190000
DTEND;TZID=Europe/London:20241208T200000
DTSTAMP:20260426T034448
CREATED:20241129T123044Z
LAST-MODIFIED:20241203T171209Z
UID:22592-1733684400-1733688000@www.restore-wa.org.uk
SUMMARY:The Aquarius Singers - Christmas Concert
DESCRIPTION:The Aquarius Singers – Christmas Concert\n \nDate and Time:\nDecember 8\n@\n7:00 pm\n–\n8:00 pm \nDoors open at 6:30PM \nTicket Cost:\n£12 \nStudents £10\, under 10’s free \nDescription:\nFeaturing A Melody of Harps led by Anne Chorley. \nBuffet refreshments and mulled wine. \nProceeds will benefit Restore-WA \nTickets from Balaam’s Music\, 103 Risbygate Street\, Bury St Edmunds or pay at the door. \n\n\nAdd to calendar \n  \n\nGoogle Calendar\niCalendar\nOutlook 365\nOutlook Live\n\n« All Events \nAll Saints Church\nPark RdBury Saint Edmunds\,\nSuffolk\nIP33 3QW\nUnited Kingdom\n+ Google Map \n  \nView Venue Website
URL:https://www.restore-wa.org.uk/event/the-aquarius-singers-christmas-concert/
LOCATION:All Saints Church\, All Saints Church\, Bury Saint Edmunds\, Suffolk\, IP33 3QW\, United Kingdom
CATEGORIES:Fundraiser
ATTACH;FMTTYPE=image/png:https://www.restore-wa.org.uk/wp-content/uploads/2024/11/Christmas-2024-poster.png
ORGANIZER;CN="Restore WA":MAILTO:admin@restore-wa.org.uk
END:VEVENT
BEGIN:VEVENT
DTSTART;TZID=Europe/London:20241125T080000
DTEND;TZID=Europe/London:20241125T170000
DTSTAMP:20260426T034448
CREATED:20241021T144427Z
LAST-MODIFIED:20241129T145053Z
UID:21345-1732521600-1732554000@www.restore-wa.org.uk
SUMMARY:50th Anniversary
DESCRIPTION:50th Anniversary\n	 \nDate and Time:\n			November 25\n	  @\n8:00 am\n	  –\n5:00 pm \nDescription:\nCelebrating 50 Years \n\n	Categories:\n		Celebration\n\n	\n	Add to calendar	\n		\n	\n \n\n\n	Google Calendar\n\n\n	iCalendar\n\n\n	Outlook 365\n\n\n	Outlook Live\n\n\n\n	« All Events
URL:https://www.restore-wa.org.uk/event/50th-anniversary/
CATEGORIES:Celebration
ATTACH;FMTTYPE=image/png:https://www.restore-wa.org.uk/wp-content/uploads/2024/10/50-Years.png
END:VEVENT
BEGIN:VEVENT
DTSTART;VALUE=DATE:20241028
DTEND;VALUE=DATE:20241029
DTSTAMP:20260426T034448
CREATED:20241022T093834Z
LAST-MODIFIED:20241122T232848Z
UID:21408-1730073600-1730159999@www.restore-wa.org.uk
SUMMARY:Restore WA - Website Launch
DESCRIPTION:
URL:https://www.restore-wa.org.uk/event/restore-wa-website-launch/
CATEGORIES:Celebration
ATTACH;FMTTYPE=image/png:https://www.restore-wa.org.uk/wp-content/uploads/2024/10/restore-wa-hands.png
END:VEVENT
END:VCALENDAR